BEGIN:VCALENDAR
VERSION:2.0
PRODID:-//Private Homecare - ECPv5.14.0.3//NONSGML v1.0//EN
CALSCALE:GREGORIAN
METHOD:PUBLISH
X-WR-CALNAME:Private Homecare
X-ORIGINAL-URL:https://www.privatehomecare.ie
X-WR-CALDESC:Events for Private Homecare
REFRESH-INTERVAL;VALUE=DURATION:PT1H
X-Robots-Tag:noindex
X-PUBLISHED-TTL:PT1H
BEGIN:VTIMEZONE
TZID:Europe/Dublin
BEGIN:STANDARD
TZOFFSETFROM:+0000
TZOFFSETTO:+0100
TZNAME:IST
DTSTART:20200329T010000
END:STANDARD
BEGIN:DAYLIGHT
TZOFFSETFROM:+0100
TZOFFSETTO:+0000
TZNAME:GMT
DTSTART:20201025T010000
END:DAYLIGHT
END:VTIMEZONE
BEGIN:VEVENT
DTSTART;TZID=Europe/Dublin:20200304T100000
DTEND;TZID=Europe/Dublin:20200304T160000
DTSTAMP:20260422T160151
CREATED:20200227T132045Z
LAST-MODIFIED:20200227T132221Z
UID:1733-1583316000-1583337600@www.privatehomecare.ie
SUMMARY:QQI Care Support - 5N0758
DESCRIPTION:[vc_row css=”.vc_custom_1560182789980{padding-top: 40px !important;}”][vc_column][vc_column_text] \nCare Support Course Outline\n[/vc_column_text][vc_column_text css=”.vc_custom_1582809720702{margin-bottom: 45px !important;}”]The QQI Care Support Course is a 4 day module. If you are interested in working with us\, please visit our recruitment page. Once approved by us to become a carer\, you can join any of our courses immediately! \n\nDay 1 of 4: Relating to the client\nDay 2 of 4: Reflection and development\nDay 3 of 4: Working with others\nDay 4 of 4: Working in care\n\n[/vc_column_text][vc_column_text] \nCourse Dates\n[/vc_column_text][vc_column_text css=”.vc_custom_1582809732379{margin-bottom: 45px !important;}”]This 4 day course takes place 2 days per week\, over 2 weeks: \nDay 1: 25th February 2020 \nDay 2: 26th February 2020 \nDay 3: 3rd March 2020 \nDay 4: 4th March 2020[/vc_column_text][vc_column_text] \nCourse Cost\n[/vc_column_text][vc_column_text css=”.vc_custom_1561027424398{margin-bottom: 45px !important;}”]€195. Secure a place with a deposit of €50 payable online[/vc_column_text][vc_row_inner el_class=”qualifications-box” css=”.vc_custom_1560182654694{margin-bottom: 0px !important;padding-top: 10px !important;padding-bottom: 40px !important;background-color: #f9f9f9 !important;}”][vc_column_inner][vc_single_image image=”421″ img_size=”full” alignment=”center” css=”.vc_custom_1560182040754{margin-bottom: 0px !important;}”][vc_column_text] \nQualification Details\n[/vc_column_text][vc_column_text] \nQQI Course Code: 5N0758 | NFQ Level 5 | Award Class Minor \n[/vc_column_text][/vc_column_inner][/vc_row_inner][vc_row_inner css=”.vc_custom_1560182682404{padding-top: 10px !important;}”][vc_column_inner][vc_column_text] \nLearning Outcomes\n[/vc_column_text][vc_column_text]At the end of the care support module\, you will be able to: \n\nDiscuss the roles\, responsibilities and entitlements of a care worker\nExamine the role of a care worker within the multidisciplinary healthcare team\nDemonstrate the ability to plan and provide enhanced quality care\nApply knowledge gained to plan and meet the needs of the individual client\nExplore the need for personal planning and growth\nPlan strategies to improve own personal development\nReflect on personal effectiveness as a care worker to include own strengths and weaknesses\nReflect on relationships with client\, relatives and multidisciplinary team members and interpersonal issues that arise in work\n\n[/vc_column_text][/vc_column_inner][/vc_row_inner][vc_row_inner equal_height=”yes” gap=”20″ el_class=”course-3col-details”][vc_column_inner width=”1/3″][vc_column_text el_class=”hc-purple”] \n\nDuration\n[/vc_column_text][vc_column_text] \n4 days spread across a number of weeks. \n[/vc_column_text][/vc_column_inner][vc_column_inner width=”1/3″][vc_column_text el_class=”hc-purple”] \n\nLocation\n[/vc_column_text][vc_column_text] \nLucan Centre\, Lucan\, Dubiln. This is accessible by frequent public transport buses. Full details will be provided upon booking. \n[/vc_column_text][/vc_column_inner][vc_column_inner width=”1/3″][vc_column_text el_class=”hc-purple”] \n\nCost\n[/vc_column_text][vc_column_text] \nThe cost is €195 per person for the entire course\, including all training materials. \n[/vc_column_text][/vc_column_inner][/vc_row_inner][vc_widget_sidebar sidebar_id=”sidebar-anna-lloyd”][vc_column_text el_class=”hc-purple”] \n  Book a place on this course\n[/vc_column_text][/vc_column][/vc_row]
URL:https://www.privatehomecare.ie/course/qqi-care-support-5n0758-3/
LOCATION:Lucan Centre\, Primrose Lane\, Lucan\, Co. Dublin\, K78 XT10\, Ireland
CATEGORIES:QQI Courses for Professional Carers
ATTACH;FMTTYPE=image/jpeg:https://www.privatehomecare.ie/wp-content/uploads/2019/06/CareSupport.jpg
ORGANIZER;CN="Private%20HomeCare":MAILTO:info@privatehomecare.ie
END:VEVENT
END:VCALENDAR