BEGIN:VCALENDAR
VERSION:2.0
PRODID:-//Private Homecare - ECPv5.14.0.3//NONSGML v1.0//EN
CALSCALE:GREGORIAN
METHOD:PUBLISH
X-WR-CALNAME:Private Homecare
X-ORIGINAL-URL:https://www.privatehomecare.ie
X-WR-CALDESC:Events for Private Homecare
REFRESH-INTERVAL;VALUE=DURATION:PT1H
X-Robots-Tag:noindex
X-PUBLISHED-TTL:PT1H
BEGIN:VTIMEZONE
TZID:Europe/Dublin
BEGIN:STANDARD
TZOFFSETFROM:+0000
TZOFFSETTO:+0100
TZNAME:IST
DTSTART:20200329T010000
END:STANDARD
BEGIN:DAYLIGHT
TZOFFSETFROM:+0100
TZOFFSETTO:+0000
TZNAME:GMT
DTSTART:20201025T010000
END:DAYLIGHT
END:VTIMEZONE
BEGIN:VEVENT
DTSTART;TZID=Europe/Dublin:20200319T100000
DTEND;TZID=Europe/Dublin:20200319T160000
DTSTAMP:20260422T160212
CREATED:20200227T133143Z
LAST-MODIFIED:20200227T133143Z
UID:1738-1584612000-1584633600@www.privatehomecare.ie
SUMMARY:QQI Palliative Care Course - 5N3769
DESCRIPTION:[vc_row css=”.vc_custom_1560182789980{padding-top: 40px !important;}”][vc_column][vc_column_text] \nPalliative Care Course Outline\n[/vc_column_text][vc_column_text css=”.vc_custom_1582810286890{margin-bottom: 45px !important;}”]The QQI Palliative Care Course is 4 day module which is available only for Private HomeCare carers. If you are interested in working with us\, please visit our recruitment page. Once approved by us to become a carer\, you can join any of our courses immediately! \nThe course is broken into four days of training to cover the following topics: \n\nDay 1 of 4: Working with a palliative care approach.\nDay 2 of 4: Communications skills for staff with direct contact with residents/clients and/or families. Listening and communication skills are needed to achieve quality personalised palliative care at the end of life.\nDay 3 of 4: Death and dying; total pain control\, fatigue management\, nausea and vomiting\, constipation\, diarrhoea\, sore mouth/dry mouth\, swallowing difficulties\, breathlessness and delirium.\nDay 4 of 4: Bereavement and loss; grief and bereavement\, experiential model\, transitions model (Cairns 2003)\, phases of grief\, self care strategies\, support systems in Ireland\, right to die in Ireland-high profile court judgement (2013)\n\n[/vc_column_text][vc_column_text] \nCourse Dates\n[/vc_column_text][vc_column_text css=”.vc_custom_1582810299562{margin-bottom: 45px !important;}”]This 4 day course takes place on the following dates: \nDay 1: 27th February 2020 \nDay 2: 5th March 2020 \nDay 3: 12th March 2020 \nDay 4: 19th March 2020[/vc_column_text][vc_column_text] \nCourse Cost\n[/vc_column_text][vc_column_text css=”.vc_custom_1561021534583{margin-bottom: 45px !important;}”]€195. Secure a place with a deposit of €50 payable online[/vc_column_text][vc_row_inner el_class=”qualifications-box” css=”.vc_custom_1560182654694{margin-bottom: 0px !important;padding-top: 10px !important;padding-bottom: 40px !important;background-color: #f9f9f9 !important;}”][vc_column_inner][vc_single_image image=”421″ img_size=”full” alignment=”center” css=”.vc_custom_1560182040754{margin-bottom: 0px !important;}”][vc_column_text] \nQualification Details\n[/vc_column_text][vc_column_text] \nQQI Course Code: 5N3769 | NFQ Level 5 | Award Class Minor \n[/vc_column_text][/vc_column_inner][/vc_row_inner][vc_row_inner css=”.vc_custom_1560182682404{padding-top: 10px !important;}”][vc_column_inner][vc_column_text] \nLearning Outcomes\n[/vc_column_text][vc_column_text]At the end of your palliative care training\, you will be able to: \n\nDiscuss the philosophy and principles of palliative care.\nSummarise the structure and organisation of palliative care services to include the role played by the multi-disciplinary team and diverse family structures in the provision of care for a terminally ill person.\nDiscuss the role of the support worker in the promotion of key issues such as life quality\, self-esteem\, respect\, privacy and dignity in palliative care work.\nExplore different attitudes to death and dying to include an understanding of individual patterns of grief\, bereavement and loss.\nEmploy a range of communication strategies and processes which are central to the work in palliative care.\nApply a person-centered approach to caring for a person in the last days of their life to include the provision of supportive and holistic care promoting safety\, dignity\, respect and comfort\nRespond appropriately to the needs of the person who is confused in the last days of life.\nWork effectively and with great sensitivity in relation to the dying person and their significant others in a palliative care setting.\nUse the range of skills required from a palliative support worker in relation to end of life care.\n\n[/vc_column_text][/vc_column_inner][/vc_row_inner][vc_row_inner equal_height=”yes” gap=”20″ el_class=”course-3col-details”][vc_column_inner width=”1/3″][vc_column_text el_class=”hc-purple”] \n\nDuration\n[/vc_column_text][vc_column_text] \n4 days spread across a number of weeks. \n[/vc_column_text][/vc_column_inner][vc_column_inner width=”1/3″][vc_column_text el_class=”hc-purple”] \n\nLocation\n[/vc_column_text][vc_column_text] \nLucan Centre\, Lucan\, Dubiln. This is accessible by frequent public transport buses. Full details will be provided upon booking. \n[/vc_column_text][/vc_column_inner][vc_column_inner width=”1/3″][vc_column_text el_class=”hc-purple”] \n\nCost\n[/vc_column_text][vc_column_text] \nThe cost is €195 per person for the entire course\, including all training materials. \n[/vc_column_text][/vc_column_inner][/vc_row_inner][vc_widget_sidebar sidebar_id=”sidebar-anna-lloyd”][vc_column_text el_class=”hc-purple”] \n  Book a place on this course\n[/vc_column_text][/vc_column][/vc_row]
URL:https://www.privatehomecare.ie/course/qqi-palliative-care-course-5n3769-4/
LOCATION:Lucan Centre\, Primrose Lane\, Lucan\, Co. Dublin\, K78 XT10\, Ireland
CATEGORIES:QQI Courses for Professional Carers
ATTACH;FMTTYPE=image/jpeg:https://www.privatehomecare.ie/wp-content/uploads/2019/06/Palliative-Care.jpg
ORGANIZER;CN="Private%20HomeCare":MAILTO:info@privatehomecare.ie
END:VEVENT
END:VCALENDAR