BEGIN:VCALENDAR
VERSION:2.0
PRODID:-//Private Homecare - ECPv5.14.0.3//NONSGML v1.0//EN
CALSCALE:GREGORIAN
METHOD:PUBLISH
X-WR-CALNAME:Private Homecare
X-ORIGINAL-URL:https://www.privatehomecare.ie
X-WR-CALDESC:Events for Private Homecare
REFRESH-INTERVAL;VALUE=DURATION:PT1H
X-Robots-Tag:noindex
X-PUBLISHED-TTL:PT1H
BEGIN:VTIMEZONE
TZID:Europe/Dublin
BEGIN:STANDARD
TZOFFSETFROM:+0000
TZOFFSETTO:+0100
TZNAME:IST
DTSTART:20210328T010000
END:STANDARD
BEGIN:DAYLIGHT
TZOFFSETFROM:+0100
TZOFFSETTO:+0000
TZNAME:GMT
DTSTART:20211031T010000
END:DAYLIGHT
END:VTIMEZONE
BEGIN:VEVENT
DTSTART;TZID=Europe/Dublin:20210720T100000
DTEND;TZID=Europe/Dublin:20210720T120000
DTSTAMP:20260421T182013
CREATED:20210611T141359Z
LAST-MODIFIED:20210707T111110Z
UID:2647-1626775200-1626782400@www.privatehomecare.ie
SUMMARY:Children’s First Training - Online with Trainer - €20
DESCRIPTION:[vc_row][vc_column][vc_widget_sidebar sidebar_id=”sidebar-pay-for-course-in-full”][/vc_column][/vc_row][vc_row css=”.vc_custom_1560182789980{padding-top: 40px !important;}”][vc_column][vc_column_text] \nCourse Outline\n[/vc_column_text][vc_column_text css=”.vc_custom_1562080275811{margin-bottom: 45px !important;}”]Children’s First training is mandatory for all carers of Private HomeCare.[/vc_column_text][vc_column_text] \nHalf Day Online Course\n[/vc_column_text][vc_column_text css=”.vc_custom_1625655510546{margin-bottom: 45px !important;}”]This is a half day course –  Training starts at 10am and ends at 12pm[/vc_column_text][vc_column_text] \nCourse Cost\n[/vc_column_text][vc_column_text css=”.vc_custom_1625656241874{margin-bottom: 45px !important;}”] \n€30 per person. All training materials will be provided. Secure a place with a deposit of €10 payable online \n[/vc_column_text][vc_row_inner equal_height=”yes” gap=”20″ el_class=”course-3col-details”][vc_column_inner width=”1/3″][vc_column_text el_class=”hc-purple”] \n\nDuration\n[/vc_column_text][vc_column_text] \n2 Hours \n[/vc_column_text][/vc_column_inner][vc_column_inner width=”1/3″][vc_column_text el_class=”hc-purple”] \n\nLocation\n[/vc_column_text][vc_column_text] \nOnline via Zoom \n[/vc_column_text][/vc_column_inner][vc_column_inner width=”1/3″][vc_column_text el_class=”hc-purple”] \n\nCost\n[/vc_column_text][vc_column_text] \nThe cost is €20 per person \n[/vc_column_text][/vc_column_inner][/vc_row_inner][vc_widget_sidebar sidebar_id=”sidebar-anna-lloyd”][/vc_column][/vc_row]
URL:https://www.privatehomecare.ie/course/childrens-first-training-e20/
LOCATION:Online via Zoom\, Ireland
CATEGORIES:Children First,Everyone,QQI Courses for Professional Carers
ATTACH;FMTTYPE=image/jpeg:https://www.privatehomecare.ie/wp-content/uploads/2019/07/children-first.jpg
ORGANIZER;CN="Private%20HomeCare":MAILTO:info@privatehomecare.ie
END:VEVENT
BEGIN:VEVENT
DTSTART;TZID=Europe/Dublin:20210720T140000
DTEND;TZID=Europe/Dublin:20210720T160000
DTSTAMP:20260421T182013
CREATED:20210611T141822Z
LAST-MODIFIED:20210628T135209Z
UID:2650-1626789600-1626796800@www.privatehomecare.ie
SUMMARY:Dementia Training - Online with Trainer - €30
DESCRIPTION:[vc_row][vc_column][vc_widget_sidebar sidebar_id=”sidebar-pay-for-course-in-full”][/vc_column][/vc_row][vc_row css=”.vc_custom_1560182789980{padding-top: 40px !important;}”][vc_column][vc_column_text] \nCourse Outline\n[/vc_column_text][vc_column_text css=”.vc_custom_1590157313408{margin-bottom: 45px !important;}”]“Dementia and Loneliness” study was published by the Alzheimer Society of Ireland (28.01.19) and confirmed that “access to home care support and public nurses enabled families to manage living life with dementia.” Our role is to help people with dementia stay in their own home with its familiar surroundings for as long as possible\, and to support their family in facilitating this. \nThis means training our carers to the highest standard. Join our half day online Dementia Training course. \nThere is an estimated 55\,000 people with dementia in Ireland and for every one person with dementia three others are directly affected and most people with dementia live at home (63%) Source: www.alzeimher.ie. Wordwide\, 47 million people live with dementia (source Irish Times 28.01.19).[/vc_column_text][vc_column_text] \nHalf Day Course\n[/vc_column_text][vc_column_text css=”.vc_custom_1623421092647{margin-bottom: 45px !important;}”]This half day online course starts at 2pm and finishes at 4pm[/vc_column_text][vc_column_text] \nCourse Cost\n[/vc_column_text][vc_column_text css=”.vc_custom_1590157357749{margin-bottom: 45px !important;}”]€30 per person. All training materials will be provided. Secure a place with a deposit of €10 payable online[/vc_column_text][vc_row_inner equal_height=”yes” gap=”20″ el_class=”course-3col-details”][vc_column_inner width=”1/3″][vc_column_text el_class=”hc-purple”] \n\nDuration\n[/vc_column_text][vc_column_text] \n2 Hours \n[/vc_column_text][/vc_column_inner][vc_column_inner width=”1/3″][vc_column_text el_class=”hc-purple”] \n\nLocation\n[/vc_column_text][vc_column_text] \nOnline via Zoom \n[/vc_column_text][/vc_column_inner][vc_column_inner width=”1/3″][vc_column_text el_class=”hc-purple”] \n\nCost\n[/vc_column_text][vc_column_text] \nThe cost is €30 per person \n[/vc_column_text][/vc_column_inner][/vc_row_inner][vc_widget_sidebar sidebar_id=”sidebar-anna-lloyd”][/vc_column][/vc_row]
URL:https://www.privatehomecare.ie/course/dementia-training-online-with-trainer-e30/
LOCATION:Online via Zoom\, Ireland
CATEGORIES:Courses for Family Carers,Everyone,QQI Courses for Professional Carers
ATTACH;FMTTYPE=image/jpeg:https://www.privatehomecare.ie/wp-content/uploads/2019/06/Article_0015_08.jpg
ORGANIZER;CN="Private%20HomeCare":MAILTO:info@privatehomecare.ie
END:VEVENT
END:VCALENDAR