BEGIN:VCALENDAR
VERSION:2.0
PRODID:-//Private Homecare - ECPv5.14.0.3//NONSGML v1.0//EN
CALSCALE:GREGORIAN
METHOD:PUBLISH
X-WR-CALNAME:Private Homecare
X-ORIGINAL-URL:https://www.privatehomecare.ie
X-WR-CALDESC:Events for Private Homecare
REFRESH-INTERVAL;VALUE=DURATION:PT1H
X-Robots-Tag:noindex
X-PUBLISHED-TTL:PT1H
BEGIN:VTIMEZONE
TZID:Europe/Dublin
BEGIN:STANDARD
TZOFFSETFROM:+0000
TZOFFSETTO:+0100
TZNAME:IST
DTSTART:20210328T010000
END:STANDARD
BEGIN:DAYLIGHT
TZOFFSETFROM:+0100
TZOFFSETTO:+0000
TZNAME:GMT
DTSTART:20211031T010000
END:DAYLIGHT
END:VTIMEZONE
BEGIN:VEVENT
DTSTART;TZID=Europe/Dublin:20211013T101500
DTEND;TZID=Europe/Dublin:20211101T160000
DTSTAMP:20260421T142657
CREATED:20210618T143120Z
LAST-MODIFIED:20210917T141856Z
UID:2709-1634120100-1635782400@www.privatehomecare.ie
SUMMARY:QQI Level 6 Supervisory Management – Online class with trainer – €300
DESCRIPTION:[vc_row][vc_column][vc_widget_sidebar sidebar_id=”sidebar-pay-for-course-in-full”][/vc_column][/vc_row][vc_row css=”.vc_custom_1560182789980{padding-top: 40px !important;}”][vc_column][vc_column_text] \nSupervisory Management Course Outline\n[/vc_column_text][vc_column_text]The QQI Supervisory Management is a 5 day module which is available for those with Recognised Prior Learning (RPL). PLEASE NOTE: ***You must have completed a relevant QQI Level 5 prior to taking part in this course*** \nTeaching Format: Online class with trainer \nThis course is hosted by the trainer through the online platform\, Zoom. You must have access to a laptop with a webcam or a smartphone. \nIf you are interested in becoming a Private HomeCare Carer\, please visit our recruitment page.[/vc_column_text][vc_column_text css=”.vc_custom_1623424354902{margin-bottom: 45px !important;}”] \nLearning Outcomes\n[/vc_column_text][vc_column_text css=”.vc_custom_1624026523531{margin-bottom: 45px !important;}”]At the end of the Supervisory Management training module\, you will be able to: \n\nReview key attributes of an effective supervisor and develop some of those skills\nEvaluate principles and practices of supervision\, and supervision approaches and styles.\nUnderstand the supervisor role within the team\, and role within the organization\, monitoring progress\nReview range of organizational skills for effective supervision and develop SMART goals for a team\nDevelop great communication and ability to overcome barriers for effective supervision\, working with individuals and teams; Understand feedback and review.\nExplore developing people (and yourself) building development plan and delegating work\nReview team dynamic\, negotiating within a team and motivating for performance\n\n[/vc_column_text][vc_column_text] \nCourse Dates\n[/vc_column_text][vc_column_text css=”.vc_custom_1624026589739{margin-bottom: 45px !important;}”] \nTopics Covered\n\nIntroduction\nUnit 1 Principles and Practices\nUnit 2 Supervisor Attributes and Skills\nUnit 3 Supervisor and the Team\nUnit 4 Supervisor and the Organisation\nUnit 5 Going Further\n\nDates and Times\nOnline via Zoom\, 10.15am-12pm & 2pm-4pm each day \nDay 1: 13th October 2021 \nDay 2: 14th October 2021 \nDay 3: 20th October 2021 \nDay 4: 21st October 2021 \nDay 5: 27th October 2021[/vc_column_text][vc_column_text] \nCourse Cost\n[/vc_column_text][vc_column_text css=”.vc_custom_1624026601062{margin-bottom: 45px !important;}”]€300. Secure a place with a deposit of €50 payable online[/vc_column_text][vc_row_inner equal_height=”yes” gap=”20″ el_class=”course-3col-details”][vc_column_inner width=”1/3″][vc_column_text el_class=”hc-purple”] \n\nDuration\n[/vc_column_text][vc_column_text] \n5 days\, 10.15am-12pm & 2pm-4pm each day \n[/vc_column_text][/vc_column_inner][vc_column_inner width=”1/3″][vc_column_text el_class=”hc-purple”] \n\nLocation\n[/vc_column_text][vc_column_text] \nOnline (zoom) \n[/vc_column_text][/vc_column_inner][vc_column_inner width=”1/3″][vc_column_text el_class=”hc-purple”] \n\nCost\n[/vc_column_text][vc_column_text] \n€300\nSecure a place with a deposit of €50 payable online \n[/vc_column_text][/vc_column_inner][/vc_row_inner][vc_widget_sidebar sidebar_id=”sidebar-anna-lloyd”][/vc_column][/vc_row]
URL:https://www.privatehomecare.ie/course/supervisory-management-10-2021/
LOCATION:Online via Zoom\, Ireland
CATEGORIES:QQI Courses for Professional Carers
ATTACH;FMTTYPE=image/jpeg:https://www.privatehomecare.ie/wp-content/uploads/2021/06/SupervisoryManagement-.jpg
ORGANIZER;CN="Private%20HomeCare":MAILTO:info@privatehomecare.ie
END:VEVENT
END:VCALENDAR