BEGIN:VCALENDAR
VERSION:2.0
PRODID:-//Private Homecare - ECPv5.14.0.3//NONSGML v1.0//EN
CALSCALE:GREGORIAN
METHOD:PUBLISH
X-WR-CALNAME:Private Homecare
X-ORIGINAL-URL:https://www.privatehomecare.ie
X-WR-CALDESC:Events for Private Homecare
REFRESH-INTERVAL;VALUE=DURATION:PT1H
X-Robots-Tag:noindex
X-PUBLISHED-TTL:PT1H
BEGIN:VTIMEZONE
TZID:Europe/Dublin
BEGIN:STANDARD
TZOFFSETFROM:+0000
TZOFFSETTO:+0100
TZNAME:IST
DTSTART:20220327T010000
END:STANDARD
BEGIN:DAYLIGHT
TZOFFSETFROM:+0100
TZOFFSETTO:+0000
TZNAME:GMT
DTSTART:20221030T010000
END:DAYLIGHT
END:VTIMEZONE
BEGIN:VEVENT
DTSTART;TZID=Europe/Dublin:20220131T100000
DTEND;TZID=Europe/Dublin:20220201T160000
DTSTAMP:20260421T090607
CREATED:20220107T144859Z
LAST-MODIFIED:20220107T144859Z
UID:3379-1643623200-1643731200@www.privatehomecare.ie
SUMMARY:Induction Training
DESCRIPTION:This Induction course is for Carers of Private HomeCare only. See emails for course content. \nDay 1: 31st January 2022 \nDay 2: 1st February 2022
URL:https://www.privatehomecare.ie/course/induction-training/
LOCATION:Online via Zoom\, Ireland
ORGANIZER;CN="Private%20HomeCare":MAILTO:info@privatehomecare.ie
END:VEVENT
END:VCALENDAR