BEGIN:VCALENDAR
VERSION:2.0
PRODID:-//Private Homecare - ECPv5.14.0.3//NONSGML v1.0//EN
CALSCALE:GREGORIAN
METHOD:PUBLISH
X-WR-CALNAME:Private Homecare
X-ORIGINAL-URL:https://www.privatehomecare.ie
X-WR-CALDESC:Events for Private Homecare
REFRESH-INTERVAL;VALUE=DURATION:PT1H
X-Robots-Tag:noindex
X-PUBLISHED-TTL:PT1H
BEGIN:VTIMEZONE
TZID:Europe/Dublin
BEGIN:STANDARD
TZOFFSETFROM:+0000
TZOFFSETTO:+0100
TZNAME:IST
DTSTART:20230326T010000
END:STANDARD
BEGIN:DAYLIGHT
TZOFFSETFROM:+0100
TZOFFSETTO:+0000
TZNAME:GMT
DTSTART:20231029T010000
END:DAYLIGHT
END:VTIMEZONE
BEGIN:VEVENT
DTSTART;TZID=Europe/Dublin:20230111T090000
DTEND;TZID=Europe/Dublin:20230119T163000
DTSTAMP:20260420T131111
CREATED:20190911T110143Z
LAST-MODIFIED:20230103T125443Z
UID:1442-1673427600-1674145800@www.privatehomecare.ie
SUMMARY:QQI Care of the Older Person - €200
DESCRIPTION:[vc_row css=”.vc_custom_1560182789980{padding-top: 40px !important;}”][vc_column][vc_column_text] \nCare Of The Older Person Course Outline\n[/vc_column_text][vc_column_text css=”.vc_custom_1665060326258{margin-bottom: 45px !important;}”]The QQI Care of the Older Person course is a 4-day module which is available for those with Recognised Prior Learning (RPL). \nTeaching Format: In class with trainer \nIf you are interested in becoming a Private HomeCare Carer\, please visit our recruitment page.[/vc_column_text][vc_column_text] \nCourse Dates\n[/vc_column_text][vc_column_text css=”.vc_custom_1672745602207{margin-bottom: 45px !important;}”] \nTopics Covered\nThe Ageing Process \nWorking with the Older Person \nCaring for Older Person with Specific Needs \nCare Settings \nSkills Demonstrations: the skills demonstrations will take place on the last day of the course.[/vc_column_text][vc_column_text] \nCourse Cost\n[/vc_column_text][vc_column_text css=”.vc_custom_1665060464952{margin-bottom: 45px !important;}”]€200 \n Secure a place with a deposit of €50 payable online[/vc_column_text][vc_row_inner css=”.vc_custom_1560182682404{padding-top: 10px !important;}”][vc_column_inner][vc_column_text] \nLearning Outcomes\n[/vc_column_text][vc_column_text] \nAt the end of the Care Of The Older Person training module\, you will be able to:\n\nDiscuss a range of age related issues to include healthy ageing\, global and national demographic trends\, the normal physiological and psychological processes of ageing\, the social impact of ageing on older people and differing attitudes to ageing and older people.\nAnalyse the roles of the health care assistant in promoting positive attitudes to ageing and of statutory and voluntary agencies in promoting the well being of older people.\nExamine a range of concepts and practices to include preparation for retirement and the ethnic and cultural influences on the older person.\nExplore a range of older people’s needs to include physical\, social\, emotional\, psychological\, recreational\, financial\, environmental and spiritual needs.\nSummarise the role of the health care assistant in providing care for older people.\nDiscuss the issues related to an older person with mental illness or dementia and of living with chronic illness.\nRecognise the individual needs of the dying older person and their families.\nSummarise the range of the care settings for older people and the members of the healthcare team available in each care setting.\nExplore a range of specific services that are available for older people to include education\, lifelong learning\, retirement/the workplace and leisure.\nAnalyse current approaches towards developing quality in the provision of services for older people and their families to include standards and quality Assurance.\nEmploy effective communication with the older person\, their family and the multi disciplinary team.\nAdapt care and practices to meet the needs of older people with cognitive and sensory impairment and physical disabilities.\nExercise duties in a way that is respectful to the Person’s body after death.\nPromote a range of aspects of care for the older person to include empowerment\, advocacy\, independence\, individualised care\, dignity\, respect\, choice\, self esteem and include family and carers as partners in care.\nGive assistance in the identification of how health promotion issues can be promoted in care settings for older people and in the provision of therapeutic interventions that will enhance the social interactions and quality of life of the older person.\n\n[/vc_column_text][/vc_column_inner][/vc_row_inner][vc_row_inner equal_height=”yes” gap=”20″ el_class=”course-3col-details”][vc_column_inner width=”1/3″][vc_column_text el_class=”hc-purple”] \n\nDuration\n[/vc_column_text][vc_column_text] \nThis course takes place 2 days a week for 2 weeks. \n[/vc_column_text][/vc_column_inner][vc_column_inner width=”1/3″][vc_column_text el_class=”hc-purple”] \n\nLocation\n[/vc_column_text][vc_column_text] \nLucan Centre \n[/vc_column_text][/vc_column_inner][vc_column_inner width=”1/3″][vc_column_text el_class=”hc-purple”] \n\nCost\n[/vc_column_text][vc_column_text] \nThe cost is €200 per person for the entire course\, including all materials. \n[/vc_column_text][/vc_column_inner][/vc_row_inner][vc_widget_sidebar sidebar_id=”sidebar-anna-lloyd”][vc_column_text el_class=”hc-purple”] \n  Book a place on this course\n[/vc_column_text][/vc_column][/vc_row]
URL:https://www.privatehomecare.ie/course/qqi-care-of-the-older-person-5n2607-2/
LOCATION:Lucan Centre\, Primrose Lane\, Lucan\, Co. Dublin\, K78 XT10\, Ireland
CATEGORIES:Courses for Family Carers,QQI Courses for Professional Carers
ATTACH;FMTTYPE=image/jpeg:https://www.privatehomecare.ie/wp-content/uploads/2019/09/coop-real.jpg
ORGANIZER;CN="Private%20HomeCare":MAILTO:info@privatehomecare.ie
END:VEVENT
END:VCALENDAR