BEGIN:VCALENDAR
VERSION:2.0
PRODID:-//Private Homecare - ECPv5.14.0.3//NONSGML v1.0//EN
CALSCALE:GREGORIAN
METHOD:PUBLISH
X-WR-CALNAME:Private Homecare
X-ORIGINAL-URL:https://www.privatehomecare.ie
X-WR-CALDESC:Events for Private Homecare
REFRESH-INTERVAL;VALUE=DURATION:PT1H
X-Robots-Tag:noindex
X-PUBLISHED-TTL:PT1H
BEGIN:VTIMEZONE
TZID:Europe/Dublin
BEGIN:STANDARD
TZOFFSETFROM:+0000
TZOFFSETTO:+0100
TZNAME:IST
DTSTART:20200329T010000
END:STANDARD
BEGIN:DAYLIGHT
TZOFFSETFROM:+0100
TZOFFSETTO:+0000
TZNAME:GMT
DTSTART:20201025T010000
END:DAYLIGHT
END:VTIMEZONE
BEGIN:VEVENT
DTSTART;TZID=Europe/Dublin:20200608T100000
DTEND;TZID=Europe/Dublin:20200608T160000
DTSTAMP:20260422T103620
CREATED:20200115T141618Z
LAST-MODIFIED:20200527T152117Z
UID:1647-1591610400-1591632000@www.privatehomecare.ie
SUMMARY:QQI Care Skills - Online class with trainer - €195
DESCRIPTION:[vc_row css=”.vc_custom_1560182789980{padding-top: 40px !important;}”][vc_column][vc_row_inner el_class=”qualifications-box” css=”.vc_custom_1560182654694{margin-bottom: 0px !important;padding-top: 10px !important;padding-bottom: 40px !important;background-color: #f9f9f9 !important;}”][vc_column_inner][vc_single_image image=”421″ img_size=”full” alignment=”center” css=”.vc_custom_1560182040754{margin-bottom: 0px !important;}”][vc_column_text] \nQualification Details\n[/vc_column_text][vc_column_text] \nQQI Course Code: 5N2770 | NFQ Level 5 | Award Class Minor \n[/vc_column_text][/vc_column_inner][/vc_row_inner][vc_column_text] \nCare Skills Course Outline\n[/vc_column_text][vc_column_text css=”.vc_custom_1590571978613{margin-bottom: 45px !important;}”]The QQI Care Skills course is an 8 day module which is available for all those with the relevant experience – Recognised Prior Learning (RPL). \nTeaching Format: Online class with trainer\nThis course is hosted by the trainer through the online platform\, Zoom. You must have access to a laptop with a webcam or a smartphone. \nIf you are interested in working with becoming a carer with us\, please visit our recruitment page.[/vc_column_text][vc_column_text] \nCourse Dates\n[/vc_column_text][vc_column_text css=”.vc_custom_1590572485827{margin-bottom: 45px !important;}”]This course takes place 2 days per week over 4 weeks. There are 2 online sessions per day; 10am-12pm and 2pm-4pm (you must attend all sessions) \nDay 1: 8th June 2020 \nDay 2: 12th June 2020 \nDay 3: 15th June 2020 \nDay 4: 19th June 2020 \nDay 5: 22nd June 2020 \nDay 6: 26th June 2020 \nDay 7: 29th June 2020 \nDay 8: 3rd July 2020 Skills Demonstrations -(The Skills Demonstrations take place in The Lucan Centre\, Lucan\, Co Dublin on the last day of the course. This is a traditional classroom setting but is large enough to allow for social distancing at all times. We will also have the full PPE for each learner) \n[/vc_column_text][vc_column_text] \nCourse Cost\n[/vc_column_text][vc_column_text css=”.vc_custom_1561020447401{margin-bottom: 45px !important;}”]€195. Secure a place with a deposit of €50 payable online.[/vc_column_text][vc_row_inner css=”.vc_custom_1560182682404{padding-top: 10px !important;}”][vc_column_inner][vc_column_text] \nLearning Outcomes\n[/vc_column_text][vc_column_text]At the end of this module\, you will be able to: \n\nIdentify relevant groups of people in need of health care\nExamine the physical\, emotional\, social\, psychological and spiritual needs of a range of groups of people\, taking into account individual variation\nIdentify the hygiene needs of dependent clients\nDiscuss the prevention of pressure sores\nDemonstrate knowledge of the correct procedures for the cleaning and replacement of a range of patient equipment\nAdapt levels of assistance to the needs of particular clients\nDemonstrate a range of interpersonal skills when dealing with clients to include empathy\, respect\, patience and effective communication skills\nExercise initiative to improve client involvement in social events\, outings and occupational therapy and physiotherapy\nContribute to the maintenance of safe and hygienic environments for clients to include the safe disposal of soiled linen\nAssist clients with dressing\, grooming\, eating\, drinking\, toileting\, continence promotion\, mobility and where appropriate\, social needs\nApply client safety and security procedures to include appropriate on site client care procedures for washing\, bathing\, showering\, positioning\, moving and handling\nGive assistance that enhances the privacy\, dignity\, independence and positive self image of clients in care\nGive assistance to clients in the use of a range of care equipment to include sensory equipment\, aids to encourage independence and mechanical aids including hoists\, mobility\, feeding\, washing\, and elimination aids\nReport changes in the client’s condition to the relevant Supervisor\nComplete client documentation.\n\n[/vc_column_text][/vc_column_inner][/vc_row_inner][vc_row_inner equal_height=”yes” gap=”20″ el_class=”course-3col-details”][vc_column_inner width=”1/3″][vc_column_text el_class=”hc-purple”] \n\nDuration\n[/vc_column_text][vc_column_text] \nThis 8 day course takes place 2 days per week over 4 weeks \n[/vc_column_text][/vc_column_inner][vc_column_inner width=”1/3″][vc_column_text el_class=”hc-purple”] \n\nLocation\n[/vc_column_text][vc_column_text] \nOnline through Zoom – Full details will be provided upon booking. \n[/vc_column_text][/vc_column_inner][vc_column_inner width=”1/3″][vc_column_text el_class=”hc-purple”] \n\nCost\n[/vc_column_text][vc_column_text] \nThe cost is €195 per person for the entire course\, including all training materials. \n[/vc_column_text][/vc_column_inner][/vc_row_inner][vc_widget_sidebar sidebar_id=”sidebar-anna-lloyd”][vc_column_text el_class=”hc-purple”] \n  Book a place on this course\n[/vc_column_text][/vc_column][/vc_row]
URL:https://www.privatehomecare.ie/course/qqi-care-skills-day-1-5n2770/
LOCATION:Online via Zoom\, Ireland
CATEGORIES:Courses for Family Carers,QQI Courses for Professional Carers
ATTACH;FMTTYPE=image/jpeg:https://www.privatehomecare.ie/wp-content/uploads/2019/06/Care-Skills-1.jpg
ORGANIZER;CN="Private%20HomeCare":MAILTO:info@privatehomecare.ie
END:VEVENT
BEGIN:VEVENT
DTSTART;TZID=Europe/Dublin:20200609T100000
DTEND;TZID=Europe/Dublin:20200609T160000
DTSTAMP:20260422T103620
CREATED:20200227T133553Z
LAST-MODIFIED:20200528T143330Z
UID:1746-1591696800-1591718400@www.privatehomecare.ie
SUMMARY:People Handling €80
DESCRIPTION:[vc_row][vc_column][vc_column_text css=”.vc_custom_1560183282290{padding-top: 40px !important;}”] \nTraining Outline\n[/vc_column_text][vc_column_text]Patient Moving and Handling courses are run regularly throughout the year. Anyone can sign up. There are no computers\, no assignments\, no work experience and no prep needed! It’s a demonstration and skills course only. All training materials are provided. \nCourse Content \n\n\n\nIntroduction\nErgonomics\n\n\nAnatomy & Back Care\nMovement of the Back\nLegislation\nPrinciples of Safe Manual Handling\nRisk Assessments\nPatient Moving and Handling: Skills Practice\n\n[/vc_column_text][vc_column_text css=”.vc_custom_1561112726587{padding-top: 40px !important;}”] \nCourse Cost\n[/vc_column_text][vc_column_text]€80. Secure a place with a deposit of €20 payable online[/vc_column_text][vc_row_inner el_class=”qualifications-box”][vc_column_inner][vc_single_image image=”421″ img_size=”full” alignment=”center”][vc_column_text] \nQualification Details\n[/vc_column_text][vc_column_text] \nPeople Moving and Handling | Certificate | Award Class Minor \n[/vc_column_text][/vc_column_inner][/vc_row_inner][vc_row_inner][vc_column_inner][vc_column_text] \nLearning Outcomes\n[/vc_column_text][vc_column_text]At the end of the People Handling training module\, you will be able to: \n\nOutline People Handling legislation that applies to both the employer and employee\nDescribe the anatomy of the spine\, muscular system and mechanisms of injury\nDetail was is involved in the ergonomic risk assessment\nOutline the principles of safe manual handling and people handling\nPractice the safe handling of loads (boxes\, tables etc..)\nPractice the safe handling of clients including the use of relevant aids and equipment.\nExplain and demonstrate the correct use of the hoist.\n\n[/vc_column_text][/vc_column_inner][/vc_row_inner][vc_row_inner equal_height=”yes” gap=”20″ el_class=”course-3col-details”][vc_column_inner width=”1/3″][vc_column_text el_class=”hc-purple”] \n\nDuration\n[/vc_column_text][vc_column_text] \nOne day. Training starts at 10.00 and finishes at 16.00 \n[/vc_column_text][/vc_column_inner][vc_column_inner width=”1/3″][vc_column_text el_class=”hc-purple”] \n\nLocation\n[/vc_column_text][vc_column_text] \nLucan Centre\, Lucan\, Dubiln. This is accessible by frequent public transport buses. Full details will be provided upon booking. \n[/vc_column_text][/vc_column_inner][vc_column_inner width=”1/3″][vc_column_text el_class=”hc-purple”] \n\nCost\n[/vc_column_text][vc_column_text] \n€80 \n[/vc_column_text][/vc_column_inner][/vc_row_inner][vc_widget_sidebar sidebar_id=”sidebar-anna-lloyd”][vc_column_text el_class=”hc-purple”] \n  Book a place on this course\n[/vc_column_text][/vc_column][/vc_row]
URL:https://www.privatehomecare.ie/course/people-handling-2/
LOCATION:Lucan Centre\, Primrose Lane\, Lucan\, Co. Dublin\, K78 XT10\, Ireland
CATEGORIES:Courses for Family Carers,Everyone,QQI Courses for Professional Carers
ATTACH;FMTTYPE=image/jpeg:https://www.privatehomecare.ie/wp-content/uploads/2019/06/Patient-Moving-and-Handling-1.jpg
ORGANIZER;CN="Private%20HomeCare":MAILTO:info@privatehomecare.ie
END:VEVENT
BEGIN:VEVENT
DTSTART;TZID=Europe/Dublin:20200617T100000
DTEND;TZID=Europe/Dublin:20200617T160000
DTSTAMP:20260422T103620
CREATED:20200227T141041Z
LAST-MODIFIED:20200528T142428Z
UID:1755-1592388000-1592409600@www.privatehomecare.ie
SUMMARY:QQI Communications - Online class with trainer - €195
DESCRIPTION:[vc_row css=”.vc_custom_1560182789980{padding-top: 40px !important;}”][vc_column][vc_column_text] \nCourse Outline\n[/vc_column_text][vc_row_inner el_class=”qualifications-box” css=”.vc_custom_1560182654694{margin-bottom: 0px !important;padding-top: 10px !important;padding-bottom: 40px !important;background-color: #f9f9f9 !important;}”][vc_column_inner][vc_single_image image=”421″ img_size=”full” alignment=”center” css=”.vc_custom_1560182040754{margin-bottom: 0px !important;}”][vc_column_text] \nQualification Details\n[/vc_column_text][vc_column_text] \nQQI Course Code: 5N0690 | NFQ Level 5 | Award Class Minor \n[/vc_column_text][/vc_column_inner][/vc_row_inner][vc_column_text css=”.vc_custom_1590573091521{margin-bottom: 45px !important;}”]This is an 8 day module which is available to complete online. Each day consists of 2 online sessions (10am-12pm) and (2pm-4pm). Once you register for the course\, you will be sent the meeting link and password. \n\nYou must have access to a laptop with a webcam / a smart phone\n100% attendance is required\n\nIf you are interested in working with us\, please visit our recruitment page \nThis module includes a skills demonstration\, an oral presentation and portfolio collection.[/vc_column_text][vc_column_text] \nCourse Dates\n[/vc_column_text][vc_column_text css=”.vc_custom_1590052867936{margin-bottom: 45px !important;}”]This 8 day course has 2 sessions per day with the tutor online: \nDay 1: 17th June 10am-12pm and 2pm-4pm \nDay 2: 18th June 10am-12pm and 2pm-4pm \nDay 3: 24th June 10am-12pm and 2pm-4pm \nDay 4: 25th June 10am-12pm and 2pm-4pm \nDay 5: 1st July 10am-12pm and 2pm-4pm \nDay 6: 2nd July  10am-12pm and 2pm-4pm \nDay 7: 8th July 10am-12pm and 2pm-4pm \nDay 8: 9th July  10am-12pm and 2pm-4pm[/vc_column_text][vc_column_text] \nCourse Cost\n[/vc_column_text][vc_column_text css=”.vc_custom_1561021141978{margin-bottom: 45px !important;}”]€195. Secure a place with a deposit of €50 payable online[/vc_column_text][vc_row_inner equal_height=”yes” gap=”20″ el_class=”course-3col-details”][vc_column_inner width=”1/3″][vc_column_text el_class=”hc-purple”] \n\nDuration\n[/vc_column_text][vc_column_text] \nThis 8 day course takes place 2 days per week over 4 weeks \n[/vc_column_text][/vc_column_inner][vc_column_inner width=”1/3″][vc_column_text el_class=”hc-purple”] \n\nLocation\n[/vc_column_text][vc_column_text]https://zoom.us/signup[/vc_column_text][/vc_column_inner][vc_column_inner width=”1/3″][vc_column_text el_class=”hc-purple”] \n\nCost\n[/vc_column_text][vc_column_text] \nThe cost is €195 per person for the entire course\, including all training materials. \n[/vc_column_text][/vc_column_inner][/vc_row_inner][vc_widget_sidebar sidebar_id=”sidebar-anna-lloyd”][vc_column_text el_class=”hc-purple”] \n  Book a place on this course\n[/vc_column_text][/vc_column][/vc_row]
URL:https://www.privatehomecare.ie/course/qqi-communications-5n0690-4/
LOCATION:Online via Zoom\, Ireland
CATEGORIES:QQI Courses for Professional Carers
ATTACH;FMTTYPE=image/jpeg:https://www.privatehomecare.ie/wp-content/uploads/2019/06/Communications-1.jpg
ORGANIZER;CN="Private%20HomeCare":MAILTO:info@privatehomecare.ie
END:VEVENT
BEGIN:VEVENT
DTSTART;TZID=Europe/Dublin:20200623T100000
DTEND;TZID=Europe/Dublin:20200623T160000
DTSTAMP:20260422T103620
CREATED:20200612T113356Z
LAST-MODIFIED:20200612T113356Z
UID:2065-1592906400-1592928000@www.privatehomecare.ie
SUMMARY:People Handling €80
DESCRIPTION:[vc_row][vc_column][vc_column_text css=”.vc_custom_1560183282290{padding-top: 40px !important;}”] \nTraining Outline\n[/vc_column_text][vc_column_text]Patient Moving and Handling courses are run regularly throughout the year. Anyone can sign up. There are no computers\, no assignments\, no work experience and no prep needed! It’s a demonstration and skills course only. All training materials are provided. \nCourse Content \n\n\n\nIntroduction\nErgonomics\n\n\nAnatomy & Back Care\nMovement of the Back\nLegislation\nPrinciples of Safe Manual Handling\nRisk Assessments\nPatient Moving and Handling: Skills Practice\n\n[/vc_column_text][vc_column_text css=”.vc_custom_1561112726587{padding-top: 40px !important;}”] \nCourse Cost\n[/vc_column_text][vc_column_text]€80. Secure a place with a deposit of €20 payable online[/vc_column_text][vc_row_inner el_class=”qualifications-box”][vc_column_inner][vc_single_image image=”421″ img_size=”full” alignment=”center”][vc_column_text] \nQualification Details\n[/vc_column_text][vc_column_text] \nPeople Moving and Handling | Certificate | Award Class Minor \n[/vc_column_text][/vc_column_inner][/vc_row_inner][vc_row_inner][vc_column_inner][vc_column_text] \nLearning Outcomes\n[/vc_column_text][vc_column_text]At the end of the People Handling training module\, you will be able to: \n\nOutline People Handling legislation that applies to both the employer and employee\nDescribe the anatomy of the spine\, muscular system and mechanisms of injury\nDetail was is involved in the ergonomic risk assessment\nOutline the principles of safe manual handling and people handling\nPractice the safe handling of loads (boxes\, tables etc..)\nPractice the safe handling of clients including the use of relevant aids and equipment.\nExplain and demonstrate the correct use of the hoist.\n\n[/vc_column_text][/vc_column_inner][/vc_row_inner][vc_row_inner equal_height=”yes” gap=”20″ el_class=”course-3col-details”][vc_column_inner width=”1/3″][vc_column_text el_class=”hc-purple”] \n\nDuration\n[/vc_column_text][vc_column_text] \nOne day. Training starts at 10.00 and finishes at 16.00 \n[/vc_column_text][/vc_column_inner][vc_column_inner width=”1/3″][vc_column_text el_class=”hc-purple”] \n\nLocation\n[/vc_column_text][vc_column_text] \nLucan Centre\, Lucan\, Dubiln. This is accessible by frequent public transport buses. Full details will be provided upon booking. \n[/vc_column_text][/vc_column_inner][vc_column_inner width=”1/3″][vc_column_text el_class=”hc-purple”] \n\nCost\n[/vc_column_text][vc_column_text] \n€80 \n[/vc_column_text][/vc_column_inner][/vc_row_inner][vc_widget_sidebar sidebar_id=”sidebar-anna-lloyd”][vc_column_text el_class=”hc-purple”] \n  Book a place on this course\n[/vc_column_text][/vc_column][/vc_row]
URL:https://www.privatehomecare.ie/course/people-handling-e80/
LOCATION:Lucan Centre\, Primrose Lane\, Lucan\, Co. Dublin\, K78 XT10\, Ireland
CATEGORIES:Courses for Family Carers,Everyone,QQI Courses for Professional Carers
ATTACH;FMTTYPE=image/jpeg:https://www.privatehomecare.ie/wp-content/uploads/2020/06/ph-real.jpg
ORGANIZER;CN="Private%20HomeCare":MAILTO:info@privatehomecare.ie
END:VEVENT
END:VCALENDAR