BEGIN:VCALENDAR
VERSION:2.0
PRODID:-//Private Homecare - ECPv5.14.0.3//NONSGML v1.0//EN
CALSCALE:GREGORIAN
METHOD:PUBLISH
X-WR-CALNAME:Private Homecare
X-ORIGINAL-URL:https://www.privatehomecare.ie
X-WR-CALDESC:Events for Private Homecare
REFRESH-INTERVAL;VALUE=DURATION:PT1H
X-Robots-Tag:noindex
X-PUBLISHED-TTL:PT1H
BEGIN:VTIMEZONE
TZID:Europe/Dublin
BEGIN:STANDARD
TZOFFSETFROM:+0000
TZOFFSETTO:+0100
TZNAME:IST
DTSTART:20210328T010000
END:STANDARD
BEGIN:DAYLIGHT
TZOFFSETFROM:+0100
TZOFFSETTO:+0000
TZNAME:GMT
DTSTART:20211031T010000
END:DAYLIGHT
END:VTIMEZONE
BEGIN:VEVENT
DTSTART;TZID=Europe/Dublin:20210215T100000
DTEND;TZID=Europe/Dublin:20210215T130000
DTSTAMP:20260421T234548
CREATED:20200528T143954Z
LAST-MODIFIED:20211112T133346Z
UID:2035-1613383200-1613394000@www.privatehomecare.ie
SUMMARY:Safeguarding Vulnerable Adults - Online with Trainer - €30
DESCRIPTION:[vc_row css=”.vc_custom_1560182789980{padding-top: 40px !important;}”][vc_column][vc_column_text] \nCourse Outline\n[/vc_column_text][vc_column_text css=”.vc_custom_1590676708920{margin-bottom: 45px !important;}”]All adults have the right to be safe and to live a life free from abuse.  All persons are entitled to this right\, regardless of their circumstances. It is our responsibility to ensure that our clients are treated with respect and dignity\, have their welfare promoted and receive support in an environment in which every effort is made to promote welfare and to prevent abuse. \nAll vulnerable people have a right to be protected against abuse and to have any concerns regarding abusive experiences addressed. \nThis course outlines the different types of abuse and gives the carer all available avenues in order to protect their client.[/vc_column_text][vc_column_text] \nHalf Day Course\n[/vc_column_text][vc_column_text css=”.vc_custom_1590571605410{margin-bottom: 45px !important;}”]This half day online course starts at 10am and finishes at 1pm[/vc_column_text][vc_column_text] \nCourse Cost\n[/vc_column_text][vc_column_text css=”.vc_custom_1590157357749{margin-bottom: 45px !important;}”]€30 per person. All training materials will be provided. Secure a place with a deposit of €10 payable online[/vc_column_text][vc_row_inner equal_height=”yes” gap=”20″ el_class=”course-3col-details”][vc_column_inner width=”1/3″][vc_column_text el_class=”hc-purple”] \n\nDuration\n[/vc_column_text][vc_column_text] \n3 Hours \n[/vc_column_text][/vc_column_inner][vc_column_inner width=”1/3″][vc_column_text el_class=”hc-purple”] \n\nLocation\n[/vc_column_text][vc_column_text] \nOnline via Zoom \n[/vc_column_text][/vc_column_inner][vc_column_inner width=”1/3″][vc_column_text el_class=”hc-purple”] \n\nCost\n[/vc_column_text][vc_column_text] \nThe cost is €30 per person \n[/vc_column_text][/vc_column_inner][/vc_row_inner][vc_widget_sidebar sidebar_id=”sidebar-anna-lloyd”][vc_column_text el_class=”hc-purple”] \n  Book a place on this course\n[/vc_column_text][/vc_column][/vc_row]
URL:https://www.privatehomecare.ie/course/safeguarding-vulnerable-adults-online-with-trainer-e30/
LOCATION:Online via Microsoft Teams\, Ireland
CATEGORIES:Courses for Family Carers,Everyone,QQI Courses for Professional Carers,Safeguarding Vulnerable Adults
ATTACH;FMTTYPE=image/jpeg:https://www.privatehomecare.ie/wp-content/uploads/2019/06/Article_0052.jpg
ORGANIZER;CN="Private%20HomeCare":MAILTO:info@privatehomecare.ie
END:VEVENT
END:VCALENDAR